BEGIN:VCALENDAR
VERSION:2.0
PRODID:-//Darshana Yoga - ECPv6.15.18//NONSGML v1.0//EN
CALSCALE:GREGORIAN
METHOD:PUBLISH
X-WR-CALNAME:Darshana Yoga
X-ORIGINAL-URL:https://darshanayoga.es
X-WR-CALDESC:Eventos para Darshana Yoga
REFRESH-INTERVAL;VALUE=DURATION:PT1H
X-Robots-Tag:noindex
X-PUBLISHED-TTL:PT1H
BEGIN:VTIMEZONE
TZID:UTC
BEGIN:STANDARD
TZOFFSETFROM:+0000
TZOFFSETTO:+0000
TZNAME:UTC
DTSTART:20200101T000000
END:STANDARD
END:VTIMEZONE
BEGIN:VEVENT
DTSTART;TZID=UTC:20210801T180000
DTEND;TZID=UTC:20210807T113000
DTSTAMP:20260426T002604
CREATED:20210305T093810Z
LAST-MODIFIED:20210314T180509Z
UID:10000046-1627840800-1628335800@darshanayoga.es
SUMMARY:Yoga en el Pirineo - Agosto 2021
DESCRIPTION:Si sueñas con la posibilidad de disfrutar este verano del yoga y la naturaleza\, puedes realizar ahora tu pre-reserva sin compromiso y abonarla la primera semana de julio. Confiamos que la situación será óptima en agosto y nos animamos una vez más a compartir las vacaciones de Yoga\,  con la tranquilidad de aplicar las medidas de seguridad y protocolos sanitarios en vigor. \nDel 1 al 7 de agosto y del 7 al 13 de agosto 2021 – Plazas limitadas (aforo reducido) \nEl Valle de Ordino\, de gran belleza natural\, está situado al noroeste de Andorra\, el país de los Pirineos. \nEl curso de Yoga se va a realizar en el Hotel Babot *** a 1.600 m de altitud\, en un emplazamiento único rodeado de naturaleza y con unas panorámicas excepcionales. Su ubicación\, privilegiada por su entorno\, nos ofrece un lugar familiar\, tranquilo y acogedor ideal para la práctica de Yoga en verano  y poder disfrutar de agradables paseos\, excursiones y la posibilidad de visitar el Parque Natural de Sorteny\, lugar de interés paisajístico y botánico. \nEl hotel dispone de una sala amplia con ventilación natural frente a las montañas\, jardines  y piscina exterior. \nAndorra también nos pone a nuestro alcance los beneficios del agua termal en el balneario de Caldea. \nLa reconfortante sombra de los árboles\, las espléndidas vistas al valle\, el silencio y la tranquilidad\, han convertido este entorno natural en oasis de paz donde sumergirnos para reposar\, renovar tus energías y reencontrar la armonía física y mental. Un espacio para dejarte abrazar por la naturaleza y el bienestar. \nOrganiza: Escuela Integrativa de Yoga Darshana \nLos cursos son dirigidos por: Gemma Vidal y Juan José Enrique (Profesores de Yoga titulados y Psicólogos con amplia experiencia profesional). \nuedes descargar pdf informativo en el siguiente enlace:  Vacaciones Yoga Ordino 2021 \nContacto: T 606 282 066 / info@darshanayoga.es
URL:https://darshanayoga.es/event/yoga-en-el-pirineo/
LOCATION:andorra\, Ctra. del Coll d'Ordino\, AD300 Ordino\, Andorra\, Ordino\, Andorra\, Andorra
ATTACH;FMTTYPE=image/jpeg:https://darshanayoga.es/wp-content/uploads/2021/03/20170813_130110-scaled.jpg
END:VEVENT
BEGIN:VEVENT
DTSTART;TZID=UTC:20210807T180000
DTEND;TZID=UTC:20210813T113000
DTSTAMP:20260426T002604
CREATED:20210305T094618Z
LAST-MODIFIED:20210314T180406Z
UID:10000045-1628359200-1628854200@darshanayoga.es
SUMMARY:Vacaciones de Yoga en el Pirineo - Verano 2021
DESCRIPTION:Si sueñas con la posibilidad de disfrutar este verano del yoga y la naturaleza\, puedes realizar ahora tu pre-reserva sin compromiso y abonarla la primera semana de julio. Confiamos que la situación será óptima en agosto y nos animamos una vez más a compartir las vacaciones de Yoga\,  con la tranquilidad de aplicar las medidas de seguridad y protocolos sanitarios en vigor. \nDel 1 al 7 de agosto y del 7 al 13 de agosto 2021 – Plazas limitadas (aforo reducido) \nEl Valle de Ordino\, de gran belleza natural\, está situado al noroeste de Andorra\, el país de los Pirineos. \nEl curso de Yoga se va a realizar en el Hotel Babot *** a 1.600 m de altitud\, en un emplazamiento único rodeado de naturaleza y con unas panorámicas excepcionales. Su ubicación\, privilegiada por su entorno\, nos ofrece un lugar familiar\, tranquilo y acogedor ideal para la práctica de Yoga en verano  y poder disfrutar de agradables paseos\, excursiones y la posibilidad de visitar el Parque Natural de Sorteny\, lugar de interés paisajístico y botánico. \nEl hotel dispone de una sala amplia con ventilación natural frente a las montañas\, jardines  y piscina exterior. \nAndorra también nos pone a nuestro alcance los beneficios del agua termal en el balneario de Caldea. \nLa reconfortante sombra de los árboles\, las espléndidas vistas al valle\, el silencio y la tranquilidad\, han convertido este entorno natural en oasis de paz donde sumergirnos para reposar\, renovar tus energías y reencontrar la armonía física y mental. Un espacio donde dejarte abrazar por la naturaleza y el bienestar. \nOrganiza: Escuela Integrativa de Yoga Darshana \nLos cursos son dirigidos por: Gemma Vidal y Juan José Enrique (Profesores de Yoga titulados y Psicólogos con amplia experiencia profesional). \nPuedes descargar pdf informativo en el siguiente enlace:  Vacaciones Yoga Ordino 2021 \nContacto: T 606 282 066 / info@darshanayoga.es
URL:https://darshanayoga.es/event/vacaciones-de-yoga-en-el-pirineo-verano-2021/
LOCATION:andorra\, Ctra. del Coll d'Ordino\, AD300 Ordino\, Andorra\, Ordino\, Andorra\, Andorra
ATTACH;FMTTYPE=image/jpeg:https://darshanayoga.es/wp-content/uploads/2021/03/20170813_104833-scaled.jpg
END:VEVENT
END:VCALENDAR