BEGIN:VCALENDAR
VERSION:2.0
PRODID:-//Darshana Yoga - ECPv6.15.18//NONSGML v1.0//EN
CALSCALE:GREGORIAN
METHOD:PUBLISH
X-ORIGINAL-URL:https://darshanayoga.es
X-WR-CALDESC:Eventos para Darshana Yoga
REFRESH-INTERVAL;VALUE=DURATION:PT1H
X-Robots-Tag:noindex
X-PUBLISHED-TTL:PT1H
BEGIN:VTIMEZONE
TZID:UTC
BEGIN:STANDARD
TZOFFSETFROM:+0000
TZOFFSETTO:+0000
TZNAME:UTC
DTSTART:20180101T000000
END:STANDARD
END:VTIMEZONE
BEGIN:VEVENT
DTSTART;VALUE=DATE:20190801
DTEND;VALUE=DATE:20190808
DTSTAMP:20260425T145331
CREATED:20190508T145302Z
LAST-MODIFIED:20190509T143501Z
UID:10000034-1564617600-1565222399@darshanayoga.es
SUMMARY:Vacaciones de Yoga en el Pirineo (Valle de Ordino\, Andorra)
DESCRIPTION:XIX Vacaciones en el Pirineo \n  \n\n\nDel 1 al 7 de Agosto \nDel 7 al 13 de Agosto\n\n\n\n\n\nEl Valle de Ordino\, de gran belleza natural\, está situado al noroeste de Andorra\, el país de los Pirineos. En él encontramos el Parque Natural de Sorteny\, lugar de interés paisajístico y botánico. \n\n\nEl curso de Yoga se va a realizar en el Hotel Babot a 1.600 m de altitud\, en un emplazamiento único rodeado de naturaleza y con unas panorámicas excepcionales. Su ubicación\, privilegiada por su entorno\, nos ofrece un lugar tranquilo y acogedor ideal para la práctica de Yoga y poder disfrutar de agradables paseos\, excursiones y visitas a algunos lagos emblemáticos de la zona.\nEl Hotel dispone de piscina al aire libre\, jardines y gimnasio-spa. \nAndorra también nos pone a nuestro alcance los beneficios del agua termal en el balneario de Caldea. \nDescarga\nDescarga aqui toda la información completa \nYoga en el Valle de Ordino 2019 triptico \nLa reconfortante sombra de los árboles\, las espléndidas vistas del valle\, el silencio y la tranquilidad\, han convertido este entorno natural en oasis de paz donde sumergirnos para reposar y reencontrar la armonía física y mental.
URL:https://darshanayoga.es/event/vacaciones-de-yoga-en-el-pirineo-valle-de-ordino-andorra/2019-08-01/
LOCATION:andorra\, Ctra. del Coll d'Ordino\, AD300 Ordino\, Andorra\, Ordino\, Andorra\, Andorra
CATEGORIES:Ordino
ATTACH;FMTTYPE=image/jpeg:https://darshanayoga.es/wp-content/uploads/2019/05/IMG_20180801_134353-e1559915810102.jpg
END:VEVENT
END:VCALENDAR