BEGIN:VCALENDAR
VERSION:2.0
PRODID:-//Darshana Yoga - ECPv6.15.18//NONSGML v1.0//EN
CALSCALE:GREGORIAN
METHOD:PUBLISH
X-ORIGINAL-URL:https://darshanayoga.es
X-WR-CALDESC:Eventos para Darshana Yoga
REFRESH-INTERVAL;VALUE=DURATION:PT1H
X-Robots-Tag:noindex
X-PUBLISHED-TTL:PT1H
BEGIN:VTIMEZONE
TZID:UTC
BEGIN:STANDARD
TZOFFSETFROM:+0000
TZOFFSETTO:+0000
TZNAME:UTC
DTSTART:20230101T000000
END:STANDARD
END:VTIMEZONE
BEGIN:VEVENT
DTSTART;TZID=UTC:20240202T183000
DTEND;TZID=UTC:20240202T193000
DTSTAMP:20260420T214357
CREATED:20240115T141340Z
LAST-MODIFIED:20240130T085519Z
UID:10000070-1706898600-1706902200@darshanayoga.es
SUMMARY:English Yoga Class in Zaragoza
DESCRIPTION:English Yoga Class in Zaragoza \nFridays from 18:30 to 19:30 \nDarshana Yoga Studio C/ Conde Viñaza 14  (Delicias) – \nFor booking your place  606 282 066 \n  \n 
URL:https://darshanayoga.es/event/free-english-yoga-class-in-zaragoza/
CATEGORIES:English Yoga Classes,Yoga Classes in Zaragoza
ATTACH;FMTTYPE=image/jpeg:https://darshanayoga.es/wp-content/uploads/2024/01/English-Yoga-Classes-Zaragoza.jpg
END:VEVENT
END:VCALENDAR