BEGIN:VCALENDAR
VERSION:2.0
PRODID:-//Darshana Yoga - ECPv6.15.18//NONSGML v1.0//EN
CALSCALE:GREGORIAN
METHOD:PUBLISH
X-ORIGINAL-URL:https://darshanayoga.es
X-WR-CALDESC:Eventos para Darshana Yoga
REFRESH-INTERVAL;VALUE=DURATION:PT1H
X-Robots-Tag:noindex
X-PUBLISHED-TTL:PT1H
BEGIN:VTIMEZONE
TZID:UTC
BEGIN:STANDARD
TZOFFSETFROM:+0000
TZOFFSETTO:+0000
TZNAME:UTC
DTSTART:20220101T000000
END:STANDARD
END:VTIMEZONE
BEGIN:VEVENT
DTSTART;TZID=UTC:20231111T103000
DTEND;TZID=UTC:20231111T193000
DTSTAMP:20260421T034316
CREATED:20231021T090026Z
LAST-MODIFIED:20231026T083751Z
UID:10000042-1699698600-1699731000@darshanayoga.es
SUMMARY:Taller de EUTONÍA con Kamen Nogués
DESCRIPTION:El próximo sábado día 11 de noviembre tendrá lugar en Darshana un taller de Eutonía dirigido por Kamen Nogués (Diplomada en Eutonía\, Danzaterapeuta\, pedagoga corporal\, formación en Yoga y licenciada en ciencias de la actividad física y deporte. Formada con Raymond Murcia\, discípulo directo de Gerda Alexander) \nLa Eutonía como camino de conciencia y armonización corporal. Método desarrollado por Gerda Alexander que hace hincapié en la inteligencia\, la sensibilidad y la conciencia del cuerpo más que en el simple ejercicio físico.  Estimular la presencia y la capacidad de movimiento del ser humano en la búsqueda del gesto espontáneo y del tono óptimo\, despertando nuestras posibilidades creativas y funcionales. \nLa  Eutonía tiene una gran afinidad con la pedagogía del Yoga que ofrecemos en Darshana\, con sus matices sutiles y particulares del enfoque este taller nos ofrecerá la oportunidad de seguir profundizando en nuestro conocimiento a través del movimiento.  \nEl horario será de 10:30 a 14:00 y de 16:00 a 19:30 h. \nAportación:  95 euros \nPodéis reservar vuestra plaza a través del teléfono 606282066 ó email info@darshanayoga.es
URL:https://darshanayoga.es/event/taller-de-eutonia-con-kamen-nogues/
LOCATION:Escuela integrativa de Yoga Darshana\, Conde de la Viñaza 14\, Zaragoza\, 50017\, España
CATEGORIES:Eutonía
ORGANIZER;CN="Darshana Yoga":MAILTO:info@darshanayoga.es
GEO:41.6520089;-0.9066233
X-APPLE-STRUCTURED-LOCATION;VALUE=URI;X-ADDRESS=Escuela integrativa de Yoga Darshana Conde de la Viñaza 14 Zaragoza 50017 España;X-APPLE-RADIUS=500;X-TITLE=Conde de la Viñaza 14:geo:-0.9066233,41.6520089
END:VEVENT
END:VCALENDAR