BEGIN:VCALENDAR
VERSION:2.0
PRODID:-//Darshana Yoga - ECPv6.15.18//NONSGML v1.0//EN
CALSCALE:GREGORIAN
METHOD:PUBLISH
X-ORIGINAL-URL:https://darshanayoga.es
X-WR-CALDESC:Eventos para Darshana Yoga
REFRESH-INTERVAL;VALUE=DURATION:PT1H
X-Robots-Tag:noindex
X-PUBLISHED-TTL:PT1H
BEGIN:VTIMEZONE
TZID:UTC
BEGIN:STANDARD
TZOFFSETFROM:+0000
TZOFFSETTO:+0000
TZNAME:UTC
DTSTART:20200101T000000
END:STANDARD
END:VTIMEZONE
BEGIN:VEVENT
DTSTART;TZID=UTC:20210109T093000
DTEND;TZID=UTC:20210109T200000
DTSTAMP:20260423T034235
CREATED:20210828T093842Z
LAST-MODIFIED:20210828T115423Z
UID:10000044-1610184600-1610222400@darshanayoga.es
SUMMARY:Curso Formación Profesor@s Yoga - 1 sábado/mes
DESCRIPTION:Abierto el plazo de inscripción  para el  curso de Formación de Profesor@s de Yoga 2021/22 que se iniciará en el próximo sábado 25 de septiembre en Zaragoza. \nDe forma general se realiza un taller al mes en sábado de septiembre a junio\, uno de ellos en fin de semana(14ª Promoción).  \nLa talleres formativos se realizarán en Zaragoza  de forma presencial (lugar por concretar) y con opción online a valorar a partir del 2º trimestre. En todo momento se realizará de forma presencial. \nEnseñanza reconocida y avalada por AEPY (Asociación Española de Practicantes de Yoga) e UEY (Unión Europea de Yoga). \nUna formación en Yoga completa y de calidad siguiendo los principios del Yoga tradicional y genuino de la India\, enriquecido y complementado con otras aportaciones de occidente procedentes tanto de la psicología como de distintas técnicas corporales\, adaptando así la enseñanza a nuestra sociedad\, cultura y necesidades actuales. \nUn enfoque integrativo y creativo del Yoga cuya transmisión se caracteriza por la utilización de una pedagogía y metodología propia eminentemente práctica que da prioridad al aprendizaje vivencial e investigación personal. \nLa formación está abierta a aquellas personas que deseen profundizar en los conocimientos del Yoga y/o aspiren dedicarse profesionalmente a su docencia. \n\nLa escuela integrativa de Yoga Darshana te ofrece:\n\n\n\n\n\n• Enseñanza completa y de calidad\n• Profesionales con amplia experiencia y formación\n• Pedagogía activa y vivencial\n• Crecimiento personal y Formación básica en Psicología.\n• Enseñanza por niveles\n• Diploma acreditado por la AEPY\n• Programa según criterios UEY\n\n\n\nGuiada por: Gemma Vidal (Directora de la formación. Formadora de Profesores de Yoga de AEPY y Licenciada en Psicología\, con más de 25 años de experiencia en la enseñanza del Yoga).\n\n\n\nEl proceso de inscripción está abierto. ¡Últimas  plazas!\n\n\nInformación e inscripciones:  info@darshanayoga.es – Tfno/Whatsapp 606 282 066\n 
URL:https://darshanayoga.es/event/curso-formacion-profesors-yoga/
LOCATION:Biozentrica\, Avenida Casablanca nº 16\, Zaragoza\, 50019\, España
END:VEVENT
END:VCALENDAR